BEGIN:VCALENDAR
VERSION:2.0
PRODID:-//eventon.com NONSGML v1.0//EN
BEGIN:VEVENT
UID:69e5ea64b6341
DTSTAMP:20260420T085708
DTSTART:20250831T090000Z
DTEND:20250930T235000Z
LOCATION:
SUMMARY:Plattdüütsch Weken Landkreis Harburg
DESCRIPTION: Vom 31.8. - 11.10.2025 finden im Landkreis Harburg die "Plattdüütsch Weken" statt. Organisiert werden sie alle zwei Jahre vom Verein För Platt e.V.\,  indem der Verein plattdeutsche Akteru:innen der Region animiert\,  vernetzt und alle Veranstaltungen in einem Programmheft sammelt. Auch in diesem Jahr warten vielfältige und spannende Veranstaltungen auf Ihren[..]
END:VEVENT
END:VCALENDAR