BEGIN:VCALENDAR
VERSION:2.0
PRODID:-//eventon.com NONSGML v1.0//EN
BEGIN:VEVENT
UID:69ea0c411cbb6
DTSTAMP:20260423T121041
DTSTART:20260530T190000Z
DTEND:20260530T235000Z
LOCATION:Holmer Mühle\,  Schierhorner Str. 1\,  21244 Buchholz / Holm 
SUMMARY:Plattdüütsche Leeder un mehr
DESCRIPTION: Seit einigen Jahren ist Jürgen Hillmer aus dem Honigdorf Wietzendorf mit plattdeutschen Liedern in der Region musikalisch unterwegs. Neben zahlreichen selbst komponierten Stücken und Neubearbeitungen von bekannten englischsprachigen Titeln befinden sich auch „Klassiker“ des plattdeutschen Liedgutes sowie musikalische Bearbeitungen von Gedichten im Repertoire. Die Musik wird zu zweit mit Akkordeonbegleitung[..]
END:VEVENT
END:VCALENDAR